BEGIN:VCALENDAR
VERSION:2.0
PRODID:-//Vereinigung Deutscher Landesschafzuchtverb&auml;nde e.V. - ECPv6.15.20//NONSGML v1.0//EN
CALSCALE:GREGORIAN
METHOD:PUBLISH
X-WR-CALNAME:Vereinigung Deutscher Landesschafzuchtverb&auml;nde e.V.
X-ORIGINAL-URL:https://schafe-sind-toll.com
X-WR-CALDESC:Veranstaltungen für Vereinigung Deutscher Landesschafzuchtverb&auml;nde e.V.
REFRESH-INTERVAL;VALUE=DURATION:PT1H
X-Robots-Tag:noindex
X-PUBLISHED-TTL:PT1H
BEGIN:VTIMEZONE
TZID:Europe/Berlin
BEGIN:DAYLIGHT
TZOFFSETFROM:+0100
TZOFFSETTO:+0200
TZNAME:CEST
DTSTART:20250330T010000
END:DAYLIGHT
BEGIN:STANDARD
TZOFFSETFROM:+0200
TZOFFSETTO:+0100
TZNAME:CET
DTSTART:20251026T010000
END:STANDARD
BEGIN:DAYLIGHT
TZOFFSETFROM:+0100
TZOFFSETTO:+0200
TZNAME:CEST
DTSTART:20260329T010000
END:DAYLIGHT
BEGIN:STANDARD
TZOFFSETFROM:+0200
TZOFFSETTO:+0100
TZNAME:CET
DTSTART:20261025T010000
END:STANDARD
BEGIN:DAYLIGHT
TZOFFSETFROM:+0100
TZOFFSETTO:+0200
TZNAME:CEST
DTSTART:20270328T010000
END:DAYLIGHT
BEGIN:STANDARD
TZOFFSETFROM:+0200
TZOFFSETTO:+0100
TZNAME:CET
DTSTART:20271031T010000
END:STANDARD
END:VTIMEZONE
BEGIN:VEVENT
DTSTART;TZID=Europe/Berlin:20260424T183000
DTEND;TZID=Europe/Berlin:20260424T220000
DTSTAMP:20260424T105954
CREATED:20260218T084213Z
LAST-MODIFIED:20260218T084213Z
UID:6507-1777055400-1777068000@schafe-sind-toll.com
SUMMARY:Konzert in der Schäferei Degenhardt\, Roßleben\, Thüringen
DESCRIPTION:Veranstaltungsort:\nSchäferei Degenhardt\,\nHeygendorfer Str. 8a\,\n06571 Roßleben-Wiehe \nInformation / Anmeldung\nLiedtum & Hirtenkunst\, Lamm & Veganes\, Gemeinschaft & Gespräche\nTickets unter 0361-7498070 oder
URL:https://schafe-sind-toll.com/termin/konzert-in-der-schaeferei-degenhardt-rossleben-thueringen/
END:VEVENT
BEGIN:VEVENT
DTSTART;VALUE=DATE:20260425
DTEND;VALUE=DATE:20260427
DTSTAMP:20260424T105954
CREATED:20260218T091415Z
LAST-MODIFIED:20260218T091415Z
UID:6512-1777075200-1777247999@schafe-sind-toll.com
SUMMARY:30. Niederlausitzer Leistungsschau
DESCRIPTION:Veranstaltungsort:\nNissanstraße\,\n15926 Luckau\nDeutschland \nInformation / Anmeldung\nLandesgartenschau Luckau 2000 gGmbH\nTino Wolff\nTelefon: 03544 12997-17\nKontakt per E-Mail\nZur Webseite
URL:https://schafe-sind-toll.com/termin/30-niederlausitzer-leistungsschau/
END:VEVENT
BEGIN:VEVENT
DTSTART;VALUE=DATE:20260426
DTEND;VALUE=DATE:20260427
DTSTAMP:20260424T105954
CREATED:20260218T092532Z
LAST-MODIFIED:20260218T092532Z
UID:6514-1777161600-1777247999@schafe-sind-toll.com
SUMMARY:Bergschafprämierung im Freilichtmuseum Glentleiten - Bayern
DESCRIPTION:Veranstaltungsort:\nFreilichtmuseum Glentleiten\nAn der Glentleiten 4\n82439 Großweil \nInformation / Anmeldung\nKontakt per E-Mail
URL:https://schafe-sind-toll.com/termin/bergschafpraemierung-im-freilichtmuseum-glentleiten-bayern/
END:VEVENT
BEGIN:VEVENT
DTSTART;VALUE=DATE:20260429
DTEND;VALUE=DATE:20260430
DTSTAMP:20260424T105954
CREATED:20260218T092924Z
LAST-MODIFIED:20260218T092924Z
UID:6517-1777420800-1777507199@schafe-sind-toll.com
SUMMARY:5. Jährlingsbockauktion im Haus Düsse
DESCRIPTION:Veranstaltungsort:\nHaus Düsse 2\,\n59505 Bad Sassendorf \nInformation / Anmeldung
URL:https://schafe-sind-toll.com/termin/5-jaehrlingsbockauktion-im-haus-duesse/
END:VEVENT
BEGIN:VEVENT
DTSTART;VALUE=DATE:20260508
DTEND;VALUE=DATE:20260511
DTSTAMP:20260424T105954
CREATED:20260106T101327Z
LAST-MODIFIED:20260106T124025Z
UID:6304-1778198400-1778457599@schafe-sind-toll.com
SUMMARY:BRALA 2026
DESCRIPTION:Brandenburgische Landwirtschaftsausstellung \nVeranstaltungsort:\nErlebnispark Paaren\nGartenstraße 1-3\n14621 Schönwalde-Glien \nInformation / Anmeldung\nZur Webseite
URL:https://schafe-sind-toll.com/termin/brala-2026/
END:VEVENT
BEGIN:VEVENT
DTSTART;VALUE=DATE:20260515
DTEND;VALUE=DATE:20260518
DTSTAMP:20260424T105954
CREATED:20260218T093501Z
LAST-MODIFIED:20260218T093501Z
UID:6521-1778803200-1779062399@schafe-sind-toll.com
SUMMARY:22. „Altmühltaler Lamm“-Auftrieb
DESCRIPTION:Veranstaltungsort:\nMarkt Mörnsheim\,\nKastnerplatz 1\n91804 Mörnsheim \nInformation / Anmeldung\nKontakt per E-Mail\nZur Webseite
URL:https://schafe-sind-toll.com/termin/22-altmuehltaler-lamm-auftrieb/
END:VEVENT
BEGIN:VEVENT
DTSTART;VALUE=DATE:20260609
DTEND;VALUE=DATE:20260611
DTSTAMP:20260424T105954
CREATED:20260218T091018Z
LAST-MODIFIED:20260218T091018Z
UID:6509-1780963200-1781135999@schafe-sind-toll.com
SUMMARY:VDL-Mitgliederversammlung 2026
DESCRIPTION:Veranstaltungsort:\nHagedorn Hotel Belmondo Leipzig Airport\nJunkersstraße 1\n04509 Wiedemar\nGoogle Maps \nInformation\nKontakt per E-Mail \nWeitere Informationen folgen.
URL:https://schafe-sind-toll.com/termin/vdl-mitgliederversammlung-2026/
END:VEVENT
BEGIN:VEVENT
DTSTART;VALUE=DATE:20260710
DTEND;VALUE=DATE:20260714
DTSTAMP:20260424T105954
CREATED:20260218T094524Z
LAST-MODIFIED:20260218T094524Z
UID:6524-1783641600-1783987199@schafe-sind-toll.com
SUMMARY:Tarmstedter Ausstellung 2026
DESCRIPTION:Veranstaltungsort:\nWendohweg\,\n27412 Tarmstedt \nInformation / Anmeldung\nKontakt per E-Mail\nZur Webseite
URL:https://schafe-sind-toll.com/termin/tarmstedter-ausstellung-2026/
END:VEVENT
BEGIN:VEVENT
DTSTART;VALUE=DATE:20260814
DTEND;VALUE=DATE:20260817
DTSTAMP:20260424T105954
CREATED:20260106T124519Z
LAST-MODIFIED:20260106T124831Z
UID:6310-1786665600-1786924799@schafe-sind-toll.com
SUMMARY:Schaftage in Nordrhein-Westfalen
DESCRIPTION:Veranstaltungsort:\nKrefeld \nInformation / Anmeldung\nInformationen folgen
URL:https://schafe-sind-toll.com/termin/schaftage-in-nordrhein-westfalen/
END:VEVENT
BEGIN:VEVENT
DTSTART;VALUE=DATE:20260821
DTEND;VALUE=DATE:20260825
DTSTAMP:20260424T105954
CREATED:20260106T142504Z
LAST-MODIFIED:20260106T142504Z
UID:6316-1787270400-1787615999@schafe-sind-toll.com
SUMMARY:LandTageNord
DESCRIPTION:Veranstaltungsort:\n27798 Wüsting\nNiedersachsen\nDeutschland \nInformation / Anmeldung\nLand-Tage GmbH\n04484/9204-0\nZur Webseite
URL:https://schafe-sind-toll.com/termin/landtagenord/
END:VEVENT
BEGIN:VEVENT
DTSTART;VALUE=DATE:20260827
DTEND;VALUE=DATE:20260830
DTSTAMP:20260424T105954
CREATED:20260106T142813Z
LAST-MODIFIED:20260106T142929Z
UID:6318-1787788800-1788047999@schafe-sind-toll.com
SUMMARY:Husumer Schafmarkt 2026
DESCRIPTION:Veranstaltungsort:\nMessehallen Husum\nAm Messeplatz 12\n25813 Husum\nSchleswig-Holstein\nDeutschland \nInformation / Anmeldung\nLandesverband Schleswig-Holsteinischer Schaf- und Ziegenzüchter e.V.\n0431/332608\nKontakt per E-Mail\nZur Webseite
URL:https://schafe-sind-toll.com/termin/husumer-schafmarkt-2026/
END:VEVENT
BEGIN:VEVENT
DTSTART;VALUE=DATE:20260903
DTEND;VALUE=DATE:20260907
DTSTAMP:20260424T105954
CREATED:20260106T143417Z
LAST-MODIFIED:20260106T143417Z
UID:6320-1788393600-1788739199@schafe-sind-toll.com
SUMMARY:Norla Landwirtschaftliche Fach- und Verbrauchermesse
DESCRIPTION:Veranstaltungsort:\nMesseRendsburg GmbH\nGrüner Kamp 15 – 17\n24768 Rendsburg \nInformation / Anmeldung\nMesseRendsburg GmbH\nKontakt per E-Mail\nZur Webseite
URL:https://schafe-sind-toll.com/termin/norla-landwirtschaftliche-fach-und-verbrauchermesse/
END:VEVENT
BEGIN:VEVENT
DTSTART;VALUE=DATE:20260910
DTEND;VALUE=DATE:20260914
DTSTAMP:20260424T105954
CREATED:20260106T144144Z
LAST-MODIFIED:20260106T144144Z
UID:6322-1788998400-1789343999@schafe-sind-toll.com
SUMMARY:Die MeLa - Landwirtschaftsausstellung in Mühlengeez
DESCRIPTION:Veranstaltungsort:\nMAZ Messe- und Ausstellungszentrum\nMühlengeez GmbH\nGrabenstraße 16\n18273 Güstrow \nInformation / Anmeldung\nMAZ Messe- und Ausstellungszentrum\nMühlengeez GmbH\n089/536227\nKontakt per E-Mail\nZur Webseite
URL:https://schafe-sind-toll.com/termin/die-mela-landwirtschaftsausstellung-in-muehlengeez/
END:VEVENT
BEGIN:VEVENT
DTSTART;VALUE=DATE:20260919
DTEND;VALUE=DATE:20260921
DTSTAMP:20260424T105954
CREATED:20260106T144632Z
LAST-MODIFIED:20260106T144632Z
UID:6324-1789776000-1789948799@schafe-sind-toll.com
SUMMARY:Deutsche Jungzüchtermeisterschaft 2026
DESCRIPTION:Veranstaltungsort:\nMagdeburg\nSachsen-Anhalt\nDeutschland \nInformation / Anmeldung\nLandesschafzuchtverband Sachsen-Anhalt\n0345/52 149 41\nKontakt per E-Mail
URL:https://schafe-sind-toll.com/termin/deutsche-jungzuechtermeisterschaft-2026/
END:VEVENT
BEGIN:VEVENT
DTSTART;VALUE=DATE:20261110
DTEND;VALUE=DATE:20261114
DTSTAMP:20260424T105954
CREATED:20260106T145613Z
LAST-MODIFIED:20260106T145613Z
UID:6326-1794268800-1794614399@schafe-sind-toll.com
SUMMARY:EuroTier 2026
DESCRIPTION:Veranstaltungsort:\nMessegelände\n30521 Hannover\nDeutschland \nInformation / Anmeldung\nZur Webseite
URL:https://schafe-sind-toll.com/termin/eurotier-2026/
END:VEVENT
END:VCALENDAR