BEGIN:VCALENDAR
VERSION:2.0
PRODID:-//Vereinigung Deutscher Landesschafzuchtverb&auml;nde e.V. - ECPv6.15.20//NONSGML v1.0//EN
CALSCALE:GREGORIAN
METHOD:PUBLISH
X-ORIGINAL-URL:https://schafe-sind-toll.com
X-WR-CALDESC:Veranstaltungen für Vereinigung Deutscher Landesschafzuchtverb&auml;nde e.V.
REFRESH-INTERVAL;VALUE=DURATION:PT1H
X-Robots-Tag:noindex
X-PUBLISHED-TTL:PT1H
BEGIN:VTIMEZONE
TZID:Europe/Berlin
BEGIN:DAYLIGHT
TZOFFSETFROM:+0100
TZOFFSETTO:+0200
TZNAME:CEST
DTSTART:20250330T010000
END:DAYLIGHT
BEGIN:STANDARD
TZOFFSETFROM:+0200
TZOFFSETTO:+0100
TZNAME:CET
DTSTART:20251026T010000
END:STANDARD
BEGIN:DAYLIGHT
TZOFFSETFROM:+0100
TZOFFSETTO:+0200
TZNAME:CEST
DTSTART:20260329T010000
END:DAYLIGHT
BEGIN:STANDARD
TZOFFSETFROM:+0200
TZOFFSETTO:+0100
TZNAME:CET
DTSTART:20261025T010000
END:STANDARD
BEGIN:DAYLIGHT
TZOFFSETFROM:+0100
TZOFFSETTO:+0200
TZNAME:CEST
DTSTART:20270328T010000
END:DAYLIGHT
BEGIN:STANDARD
TZOFFSETFROM:+0200
TZOFFSETTO:+0100
TZNAME:CET
DTSTART:20271031T010000
END:STANDARD
END:VTIMEZONE
BEGIN:VEVENT
DTSTART;VALUE=DATE:20260325
DTEND;VALUE=DATE:20260327
DTSTAMP:20260423T201043
CREATED:20260106T100004Z
LAST-MODIFIED:20260106T100004Z
UID:6300-1774396800-1774569599@schafe-sind-toll.com
SUMMARY:19. Mitteldeutsche Bockauktion und 33. Merinofleischschaf-Elite
DESCRIPTION:Veranstaltungsort:\n04509 Kölsa\nSachsen\nDeutschland \nInformation / Anmeldung\nSächsischer Schaf- und Ziegenzuchtverband e.V.\nOstende 5\n04288 Leipzig\n(034297) 919651\nKontakt per E-Mail\nZur Webseite
URL:https://schafe-sind-toll.com/termin/19-mitteldeutsche-bockauktion-und-33-merinofleischschaf-elite/
END:VEVENT
END:VCALENDAR